BEGIN:VCALENDAR
VERSION:2.0
PRODID:-//Nishnabé Spirit - ECPv6.15.20//NONSGML v1.0//EN
CALSCALE:GREGORIAN
METHOD:PUBLISH
X-ORIGINAL-URL:https://nishnabespirit.com
X-WR-CALDESC:Events for Nishnabé Spirit
REFRESH-INTERVAL;VALUE=DURATION:PT1H
X-Robots-Tag:noindex
X-PUBLISHED-TTL:PT1H
BEGIN:VTIMEZONE
TZID:UTC
BEGIN:STANDARD
TZOFFSETFROM:+0000
TZOFFSETTO:+0000
TZNAME:UTC
DTSTART:20240101T000000
END:STANDARD
END:VTIMEZONE
BEGIN:VEVENT
DTSTART;VALUE=DATE:20250405
DTEND;VALUE=DATE:20250407
DTSTAMP:20260419T143255
CREATED:20250301T203535Z
LAST-MODIFIED:20250301T203535Z
UID:5979-1743811200-1743983999@nishnabespirit.com
SUMMARY:IIAC PowWow
DESCRIPTION:The 18th annual IIAmericas Celebration (IIAC): Honoring Indigenous Cultures\, Dance\, and Arts is presented by the Indigenous Institute of the Americas\, a 501 (C) 3 nonprofit Texas organization. The IIAC gathering reflects the complex and diverse history\, contemporary lives\, and resilient adaptations of American Indian and Indigenous cultures today. American Indian and Indigenous artists\, crafters\, and Traditional product makers from Indigenous Nations across the Americas will be represented.
URL:https://nishnabespirit.com/event/iiac-powwow/
LOCATION:Chisolm Trail OutdoorMuseum\, 101 Chisholm Trail\, Cleburn\, Texas
CATEGORIES:powwow
END:VEVENT
END:VCALENDAR